BEGIN:VCALENDAR
VERSION:2.0
PRODID:-//Center for Clinical Studies//NONSGML Events//EN
CALSCALE:GREGORIAN
X-ORIGINAL-URL:https://clinicalstudies.wustl.edu/events/
X-WR-CALDESC:Center for Clinical Studies - Events
BEGIN:VEVENT
UID:20220510T2123Z-1652217809.6975-EO-2855-1@172.23.128.19
STATUS:CONFIRMED
DTSTAMP:20260414T220353Z
CREATED:20220510T202347Z
LAST-MODIFIED:20230214T152905Z
DTSTART;TZID=America/Chicago:20221012T090000
DTEND;TZID=America/Chicago:20221012T120000
RDATE;TZID=America/Chicago:20221109T090000,20221207T090000,20230118T090000,20230315T090000,20230412T090000,20230510T090000
SUMMARY: OnCore Financials Training
DESCRIPTION: WashU users: click here to register BJC users: contact the OnC
 ore Support Team to register OnCore Financials Training is for users who re
 quire access to the financial console to review or handle financial process
 es including budget creation\, invoicing\, and payment tracking.
X-ALT-DESC;FMTTYPE=text/html: <p><strong>WashU users:</strong> <a href="htt
 ps://wustl.sabacloud.com/Saba/Web_spf/SPCTNT456Site/app/shared\;spf-url=com
 mon%2Fledetail%2Fcours000000000012604">click here to register</a><br /><str
 ong>BJC users:</strong> <a href="mailto:%20oncore@wustl.edu">contact the On
 Core Support Team to register</a></p><p>OnCore Financials Training is for u
 sers who require access to the financial console to review or handle financ
 ial processes including budget creation\, invoicing\, and payment tracking.
 </p>
CATEGORIES:Financial,Training
LOCATION:Virtual Session
GEO:0.000000;0.000000
ORGANIZER;CN="Kate":MAILTO:kateschoellhorn@wustl.edu
URL;VALUE=URI:https://clinicalstudies.wustl.edu/events/event/oncore-financi
 als-training-8/
END:VEVENT
BEGIN:VTIMEZONE
TZID:America/Chicago
BEGIN:DAYLIGHT
TZOFFSETFROM:-0600
TZOFFSETTO:-0500
DTSTART:20220313T080000
TZNAME:CDT
END:DAYLIGHT
BEGIN:STANDARD
TZOFFSETFROM:-0500
TZOFFSETTO:-0600
DTSTART:20221106T070000
TZNAME:CST
END:STANDARD
BEGIN:DAYLIGHT
TZOFFSETFROM:-0600
TZOFFSETTO:-0500
DTSTART:20230312T080000
TZNAME:CDT
END:DAYLIGHT
END:VTIMEZONE
END:VCALENDAR
