BEGIN:VCALENDAR
VERSION:2.0
PRODID:-//Center for Clinical Studies//NONSGML Events//EN
CALSCALE:GREGORIAN
X-ORIGINAL-URL:https://clinicalstudies.wustl.edu/events/
X-WR-CALDESC:Center for Clinical Studies - Events
BEGIN:VEVENT
UID:20201124T2225Z-1606256733.1704-EO-2450-1@172.23.128.18
STATUS:CONFIRMED
DTSTAMP:20260416T120409Z
CREATED:20201124T193311Z
LAST-MODIFIED:20220509T194252Z
DTSTART;TZID=America/Chicago:20210119T090000
DTEND;TZID=America/Chicago:20210119T120000
RDATE;TZID=America/Chicago:20210318T090000,20210616T090000,20210915T090000,20211215T090000,20220316T090000,20220622T090000
SUMMARY: OnCore Financials Training
DESCRIPTION: WashU users: click here to register BJC users: contact the OnC
 ore Support Team to register OnCore Financials Training is for users who re
 quire access to the financial console to review or handle financial process
 es including budget creation\, invoicing\, and payment tracking.
X-ALT-DESC;FMTTYPE=text/html: <p><strong>WashU users:</strong> <a href="htt
 ps://wustl.sabacloud.com/Saba/Web_spf/SPCTNT456Site/app/shared\;spf-url=com
 mon%2Fledetail%2Fcours000000000012604" target="_blank" rel="noopener norefe
 rrer">click here to register</a><br /><strong>BJC users:</strong> <a href="
 mailto: oncore@wustl.edu" rel="noopener noreferrer">contact the OnCore Supp
 ort Team to register</a></p><p>OnCore Financials Training is for users who 
 require access to the financial console to review or handle financial proce
 sses including budget creation\, invoicing\, and payment tracking.</p>
CATEGORIES:Financial,Training
LOCATION:Virtual Session
GEO:0.000000;0.000000
ORGANIZER;CN="Sonya":MAILTO:izadis@wustl.edu
URL;VALUE=URI:https://clinicalstudies.wustl.edu/events/event/oncore-financi
 als-training-4/
END:VEVENT
BEGIN:VTIMEZONE
TZID:America/Chicago
BEGIN:STANDARD
TZOFFSETFROM:-0500
TZOFFSETTO:-0600
DTSTART:20201101T070000
TZNAME:CST
END:STANDARD
BEGIN:DAYLIGHT
TZOFFSETFROM:-0600
TZOFFSETTO:-0500
DTSTART:20210314T080000
TZNAME:CDT
END:DAYLIGHT
BEGIN:STANDARD
TZOFFSETFROM:-0500
TZOFFSETTO:-0600
DTSTART:20211107T070000
TZNAME:CST
END:STANDARD
BEGIN:DAYLIGHT
TZOFFSETFROM:-0600
TZOFFSETTO:-0500
DTSTART:20220313T080000
TZNAME:CDT
END:DAYLIGHT
END:VTIMEZONE
END:VCALENDAR
