BEGIN:VCALENDAR
VERSION:2.0
PRODID:-//Center for Clinical Studies//NONSGML Events//EN
CALSCALE:GREGORIAN
X-ORIGINAL-URL:https://clinicalstudies.wustl.edu/events/
X-WR-CALDESC:Center for Clinical Studies - Events
BEGIN:VEVENT
UID:20200304T1939Z-1583350799.0409-EO-1736-1@172.23.128.18
STATUS:CONFIRMED
DTSTAMP:20260416T120415Z
CREATED:20200304T185220Z
LAST-MODIFIED:20200320T155713Z
DTSTART;TZID=America/Chicago:20200324T100000
DTEND;TZID=America/Chicago:20200324T110000
SUMMARY: OnCore Financial Support Group
DESCRIPTION: Join us for an OnCore financial management peer group to share
  strategies and identify best practices. Join Zoom Meeting: https://zoom.us
 /j/202021866 Meeting ID: 202 021 866 Dial by your location +1 312 626 6799 
 US (Chicago) +1 646 558 8656 US (New York) +1 346 248 7799 US (Houston) +1 
 669 900 9128 US (San Jose) +1 […]
X-ALT-DESC;FMTTYPE=text/html: <p>Join us for an OnCore financial management
  peer group to share strategies and identify best practices.</p><p><strong>
 Join Zoom Meeting:</strong> <a href="https://zoom.us/j/202021866">https://z
 oom.us/j/202021866</a><br />Meeting ID: 202 021 866</p><p>Dial by your loca
 tion<br />+1 312 626 6799 US (Chicago)<br />+1 646 558 8656 US (New York)<b
 r />+1 346 248 7799 US (Houston)<br />+1 669 900 9128 US (San Jose)<br />+1
  253 215 8782 US<br />+1 301 715 8592 US</p>
CATEGORIES:Financial
LOCATION:Virtual Session
GEO:0.000000;0.000000
ORGANIZER;CN="Sonya":MAILTO:izadis@wustl.edu
URL;VALUE=URI:https://clinicalstudies.wustl.edu/events/event/oncore-financi
 al-support-group/
END:VEVENT
BEGIN:VTIMEZONE
TZID:America/Chicago
BEGIN:DAYLIGHT
TZOFFSETFROM:-0600
TZOFFSETTO:-0500
DTSTART:20200308T080000
TZNAME:CDT
END:DAYLIGHT
END:VTIMEZONE
END:VCALENDAR
