BEGIN:VCALENDAR
VERSION:2.0
PRODID:-//Center for Clinical Studies//NONSGML Events//EN
CALSCALE:GREGORIAN
X-ORIGINAL-URL:https://clinicalstudies.wustl.edu/events/
X-WR-CALDESC:Center for Clinical Studies - Events
BEGIN:VEVENT
UID:20200616T1635Z-1592325344.1722-EO-1913-1@172.23.128.19
STATUS:CONFIRMED
DTSTAMP:20260416T120413Z
CREATED:20200616T154425Z
LAST-MODIFIED:20200616T154425Z
DTSTART;TZID=America/Chicago:20200630T110000
DTEND;TZID=America/Chicago:20200630T120000
SUMMARY: OnCore Financial Support Group
DESCRIPTION: Join us for an OnCore financial management peer group to share
  strategies and identify best practices.  If you have any topics to suggest
  for this next Zoom call\, please comment in Microsoft Teams. Join Zoom Mee
 ting: https://wustl-hipaa.zoom.us/j/99778243634 Meeting ID: 997 7824 3634 O
 ne tap mobile +13126266799\,\,99778243634# US (Chicago) +16465588656\,\,997
 78243634# US (New York) Dial by your […]
X-ALT-DESC;FMTTYPE=text/html: <h4>Join us for an OnCore financial managemen
 t peer group to share strategies and identify best practices.  If you have 
 any topics to suggest for this next Zoom call\, please comment in Microsoft
  Teams.</h4><p>Join Zoom Meeting: <a href="https://wustl-hipaa.zoom.us/j/99
 778243634">https://wustl-hipaa.zoom.us/j/99778243634</a><br />Meeting ID: 9
 97 7824 3634</p><p>One tap mobile<br />+13126266799\,\,99778243634# US (Chi
 cago)<br />+16465588656\,\,99778243634# US (New York)</p><p>Dial by your lo
 cation<br />+1 312 626 6799 US (Chicago)<br />+1 646 558 8656 US (New York)
 <br />+1 301 715 8592 US (Germantown)<br />+1 346 248 7799 US (Houston)<br 
 />+1 669 900 9128 US (San Jose)<br />+1 253 215 8782 US (Tacoma)</p><p> </p
 >
CATEGORIES:Financial,Seminar/Webinar
LOCATION:Virtual Session
GEO:0.000000;0.000000
ORGANIZER;CN="Sonya":MAILTO:izadis@wustl.edu
URL;VALUE=URI:https://clinicalstudies.wustl.edu/events/event/oncore-financi
 al-support-group-4/
END:VEVENT
BEGIN:VTIMEZONE
TZID:America/Chicago
BEGIN:DAYLIGHT
TZOFFSETFROM:-0600
TZOFFSETTO:-0500
DTSTART:20200308T080000
TZNAME:CDT
END:DAYLIGHT
END:VTIMEZONE
END:VCALENDAR
