BEGIN:VCALENDAR
VERSION:2.0
PRODID:-//Center for Clinical Studies//NONSGML Events//EN
CALSCALE:GREGORIAN
X-ORIGINAL-URL:https://clinicalstudies.wustl.edu/events/
X-WR-CALDESC:Center for Clinical Studies - Events
BEGIN:VEVENT
UID:20200514T1519Z-1589469558.2581-EO-1856-1@172.23.128.18
STATUS:CONFIRMED
DTSTAMP:20260416T120414Z
CREATED:20200514T145302Z
LAST-MODIFIED:20200514T145302Z
DTSTART;TZID=America/Chicago:20200528T100000
DTEND;TZID=America/Chicago:20200528T110000
SUMMARY: OnCore Financial Support Group
DESCRIPTION: Join us for an OnCore financial management peer group to share
  strategies and identify best practices. Join Zoom Meeting: https://wustl-h
 ipaa.zoom.us/j/92266833992 Meeting ID: 922 6683 3992 Dial by your location:
  +1 312 626 6799 US (Chicago) +1 646 558 8656 US (New York) +1 301 715 8592
  US (Germantown) +1 346 248 7799 US (Houston) +1 […]
X-ALT-DESC;FMTTYPE=text/html: <h4>Join us for an OnCore financial managemen
 t peer group to share strategies and identify best practices.</h4><p><stron
 g>Join Zoom Meeting</strong>:<span style="color: #800080\;"> <a style="colo
 r: #800080\;" href="https://wustl-hipaa.zoom.us/j/92266833992">https://wust
 l-hipaa.zoom.us/j/92266833992</a></span><br /><strong>Meeting ID:</strong> 
 922 6683 3992<br /><strong>Dial by your location:</strong><br />+1 312 626 
 6799 US (Chicago)<br />+1 646 558 8656 US (New York)<br />+1 301 715 8592 U
 S (Germantown)<br />+1 346 248 7799 US (Houston)<br />+1 669 900 9128 US (S
 an Jose)<br />+1 253 215 8782 US (Tacoma)</p>
CATEGORIES:Financial,Seminar/Webinar
LOCATION:Virtual Session
GEO:0.000000;0.000000
ORGANIZER;CN="Sonya":MAILTO:izadis@wustl.edu
URL;VALUE=URI:https://clinicalstudies.wustl.edu/events/event/oncore-financi
 al-support-group-3/
END:VEVENT
BEGIN:VTIMEZONE
TZID:America/Chicago
BEGIN:DAYLIGHT
TZOFFSETFROM:-0600
TZOFFSETTO:-0500
DTSTART:20200308T080000
TZNAME:CDT
END:DAYLIGHT
END:VTIMEZONE
END:VCALENDAR
