BEGIN:VCALENDAR
VERSION:2.0
PRODID:-//Center for Clinical Studies//NONSGML Events//EN
CALSCALE:GREGORIAN
X-ORIGINAL-URL:https://clinicalstudies.wustl.edu/events/
X-WR-CALDESC:Center for Clinical Studies - Events
BEGIN:VEVENT
UID:20200413T1829Z-1586802560.0967-EO-1787-1@172.23.128.18
STATUS:CONFIRMED
DTSTAMP:20260416T120414Z
CREATED:20200413T182320Z
LAST-MODIFIED:20200413T182431Z
DTSTART;TZID=America/Chicago:20200428T110000
DTEND;TZID=America/Chicago:20200428T120000
SUMMARY: OnCore Financial Support Group
DESCRIPTION: Join us for an OnCore financial management peer group to share
  strategies and identify best practices.  We’ll have two new financial repo
 rts to review and time for open discussion. Join Zoom Meeting: https://zoom
 .us/j/2393841527 Meeting ID: 239 384 1527 Dial by your location +1 646 558 
 8656 US (New York) +1 312 626 6799 US (Chicago) […]
X-ALT-DESC;FMTTYPE=text/html: <p>Join us for an OnCore financial management
  peer group to share strategies and identify best practices.  We’ll have tw
 o new financial reports to review and time for open discussion.</p><p><stro
 ng>Join Zoom Meeting:</strong> <a href="https://zoom.us/j/2393841527">https
 ://zoom.us/j/2393841527</a><br />Meeting ID: 239 384 1527</p><p>Dial by you
 r location<br />+1 646 558 8656 US (New York)<br />+1 312 626 6799 US (Chic
 ago)<br />+1 301 715 8592 US<br />+1 346 248 7799 US (Houston)<br />+1 669 
 900 9128 US (San Jose)<br />+1 253 215 8782 US</p><p> </p><p> </p>
CATEGORIES:Financial
LOCATION:Virtual Session
GEO:0.000000;0.000000
ORGANIZER;CN="Sonya":MAILTO:izadis@wustl.edu
URL;VALUE=URI:https://clinicalstudies.wustl.edu/events/event/oncore-financi
 al-support-group-2/
END:VEVENT
BEGIN:VTIMEZONE
TZID:America/Chicago
BEGIN:DAYLIGHT
TZOFFSETFROM:-0600
TZOFFSETTO:-0500
DTSTART:20200308T080000
TZNAME:CDT
END:DAYLIGHT
END:VTIMEZONE
END:VCALENDAR
