BEGIN:VCALENDAR
VERSION:2.0
PRODID:-//Center for Clinical Studies//NONSGML Events//EN
CALSCALE:GREGORIAN
X-ORIGINAL-URL:https://clinicalstudies.wustl.edu/events/
X-WR-CALDESC:Center for Clinical Studies - Events
BEGIN:VEVENT
UID:20240215T0058Z-1707958725.1603-EO-3165-1@10.73.1.35
STATUS:CONFIRMED
DTSTAMP:20260421T101235Z
CREATED:20240214T191504Z
LAST-MODIFIED:20240214T191504Z
DTSTART;TZID=America/Chicago:20240514T090000
DTEND;TZID=America/Chicago:20240514T120000
RRULE:FREQ=WEEKLY;INTERVAL=4;BYDAY=TU;UNTIL=20251223T150000Z
EXDATE;TZID=America/Chicago:20241224T090000,20251223T090000
SUMMARY: OnCore Clinical Team Training
DESCRIPTION: WashU users: click here to register BJC users: contact the OnC
 ore Support Team to register Clinical Team Training is for users who need t
 o register participants on a studies and manage individual subjects through
 out their study life cycle in OnCore.
X-ALT-DESC;FMTTYPE=text/html: <p><strong>WashU users:</strong> <a href="htt
 ps://wustl.sabacloud.com/Saba/Web_spf/SPCTNT456Site/app/me/learningeventdet
 ail/cours000000000010681\;spf-url=common%2Fledetail%2Fcours000000000010681"
 >click here to register</a><br /><strong>BJC users:</strong> <a href="mailt
 o:%20oncore@wustl.edu">contact the OnCore Support Team to register</a></p><
 p>Clinical Team Training is for users who need to register participants on 
 a studies and manage individual subjects throughout their study life cycle 
 in OnCore.</p>
LOCATION:Virtual Session
GEO:0.000000;0.000000
ORGANIZER;CN="Kate":MAILTO:kateschoellhorn@wustl.edu
URL;VALUE=URI:https://clinicalstudies.wustl.edu/events/event/oncore-clinica
 l-team-training-28/
END:VEVENT
BEGIN:VTIMEZONE
TZID:America/Chicago
BEGIN:DAYLIGHT
TZOFFSETFROM:-0600
TZOFFSETTO:-0500
DTSTART:20240310T080000
TZNAME:CDT
END:DAYLIGHT
BEGIN:STANDARD
TZOFFSETFROM:-0500
TZOFFSETTO:-0600
DTSTART:20241103T070000
TZNAME:CST
END:STANDARD
BEGIN:DAYLIGHT
TZOFFSETFROM:-0600
TZOFFSETTO:-0500
DTSTART:20250309T080000
TZNAME:CDT
END:DAYLIGHT
BEGIN:STANDARD
TZOFFSETFROM:-0500
TZOFFSETTO:-0600
DTSTART:20251102T070000
TZNAME:CST
END:STANDARD
END:VTIMEZONE
END:VCALENDAR
