BEGIN:VCALENDAR
VERSION:2.0
PRODID:-//Center for Clinical Studies//NONSGML Events//EN
CALSCALE:GREGORIAN
X-ORIGINAL-URL:https://clinicalstudies.wustl.edu/events/
X-WR-CALDESC:Center for Clinical Studies - Events
BEGIN:VEVENT
UID:20230929T2004Z-1696017872.2087-EO-3149-1@10.73.0.12
STATUS:CONFIRMED
DTSTAMP:20260414T131100Z
CREATED:20230929T182515Z
LAST-MODIFIED:20251218T211926Z
DTSTART;TZID=America/Chicago:20260107T090000
DTEND;TZID=America/Chicago:20260107T123000
RRULE:FREQ=WEEKLY;INTERVAL=4;BYDAY=WE;UNTIL=20291205T150000Z
RDATE;TZID=America/Chicago:20231128T090000,20231213T090000,20240110T090000,20240123T090000,20240207T090000,20240220T090000,20240306T090000,20240319T090000,20240403T090000,20240416T090000
SUMMARY: OnCore Clinical Team Training
DESCRIPTION: WashU users: click here to register BJC users: contact the OnC
 ore Support Team to register Clinical Team Training is for users who need t
 o register participants on a studies and manage individual subjects through
 out their study life cycle in OnCore.
X-ALT-DESC;FMTTYPE=text/html: <p><strong>WashU users:</strong> <a href="htt
 ps://www.myworkday.com/wustl/email-universal/inst/17815$1145/rel-task/2997$
 10951.htmld" target="_blank" rel="noopener noreferrer">click here to regist
 er</a><br /><strong>BJC users:</strong> <a href="mailto: oncore@wustl.edu" 
 rel="noopener noreferrer">contact the OnCore Support Team to register</a></
 p><p>Clinical Team Training is for users who need to register participants 
 on a studies and manage individual subjects throughout their study life cyc
 le in OnCore.</p>
LOCATION:Virtual Session
GEO:0.000000;0.000000
ORGANIZER;CN="Kate":MAILTO:kateschoellhorn@wustl.edu
URL;VALUE=URI:https://clinicalstudies.wustl.edu/events/event/oncore-clinica
 l-team-training-27/
END:VEVENT
BEGIN:VTIMEZONE
TZID:America/Chicago
BEGIN:STANDARD
TZOFFSETFROM:-0500
TZOFFSETTO:-0600
DTSTART:20251102T070000
TZNAME:CST
END:STANDARD
BEGIN:DAYLIGHT
TZOFFSETFROM:-0600
TZOFFSETTO:-0500
DTSTART:20260308T080000
TZNAME:CDT
END:DAYLIGHT
BEGIN:STANDARD
TZOFFSETFROM:-0500
TZOFFSETTO:-0600
DTSTART:20261101T070000
TZNAME:CST
END:STANDARD
BEGIN:DAYLIGHT
TZOFFSETFROM:-0600
TZOFFSETTO:-0500
DTSTART:20270314T080000
TZNAME:CDT
END:DAYLIGHT
BEGIN:STANDARD
TZOFFSETFROM:-0500
TZOFFSETTO:-0600
DTSTART:20271107T070000
TZNAME:CST
END:STANDARD
BEGIN:DAYLIGHT
TZOFFSETFROM:-0600
TZOFFSETTO:-0500
DTSTART:20280312T080000
TZNAME:CDT
END:DAYLIGHT
BEGIN:STANDARD
TZOFFSETFROM:-0500
TZOFFSETTO:-0600
DTSTART:20281105T070000
TZNAME:CST
END:STANDARD
BEGIN:DAYLIGHT
TZOFFSETFROM:-0600
TZOFFSETTO:-0500
DTSTART:20290311T080000
TZNAME:CDT
END:DAYLIGHT
BEGIN:STANDARD
TZOFFSETFROM:-0500
TZOFFSETTO:-0600
DTSTART:20291104T070000
TZNAME:CST
END:STANDARD
END:VTIMEZONE
END:VCALENDAR
