BEGIN:VCALENDAR
VERSION:2.0
PRODID:-//Center for Clinical Studies//NONSGML Events//EN
CALSCALE:GREGORIAN
X-ORIGINAL-URL:https://clinicalstudies.wustl.edu/events/
X-WR-CALDESC:Center for Clinical Studies - Events
BEGIN:VEVENT
UID:20221012T0500Z-1665550813.5863-EO-2962-1@172.23.128.18
STATUS:CONFIRMED
DTSTAMP:20260414T131100Z
CREATED:20221006T165750Z
LAST-MODIFIED:20251218T212611Z
DTSTART;TZID=America/Chicago:20260120T090000
DTEND;TZID=America/Chicago:20260120T123000
RRULE:FREQ=WEEKLY;INTERVAL=4;BYDAY=TU;UNTIL=20291218T150000Z
RDATE;TZID=America/Chicago:20221116T090000,20221129T090000,20221214T090000,20230111T090000,20230124T090000,20230208T090000,20230221T090000,20230308T090000,20230321T090000,20230405T090000,20230418T090000,20230503T090000,20230516T090000,20230531T090000,20230613T090000,20230628T090000,20230711T090000,20230726T090000,20230808T090000,20230823T090000,20230905T090000,20230920T090000,20231003T090000,20231018T090000,20231031T090000
SUMMARY: OnCore Clinical Team Training
DESCRIPTION: WashU users: click here to register BJC users: contact the OnC
 ore Support Team to register Clinical Team Training is for users who need t
 o register participants on a studies and manage individual subjects through
 out their study life cycle in OnCore.
X-ALT-DESC;FMTTYPE=text/html: <p><strong>WashU users:</strong> <a href="htt
 ps://www.myworkday.com/wustl/email-universal/inst/17815$1145/rel-task/2997$
 10951.htmld">click here to register</a><br /><strong>BJC users:</strong> <a
  href="mailto:%20oncore@wustl.edu">contact the OnCore Support Team to regis
 ter</a></p><p>Clinical Team Training is for users who need to register part
 icipants on a studies and manage individual subjects throughout their study
  life cycle in OnCore.</p>
CATEGORIES:Clinical,Training
LOCATION:Virtual Session
GEO:0.000000;0.000000
ORGANIZER;CN="Kate":MAILTO:kateschoellhorn@wustl.edu
URL;VALUE=URI:https://clinicalstudies.wustl.edu/events/event/oncore-clinica
 l-team-training-26/
END:VEVENT
BEGIN:VTIMEZONE
TZID:America/Chicago
BEGIN:STANDARD
TZOFFSETFROM:-0500
TZOFFSETTO:-0600
DTSTART:20251102T070000
TZNAME:CST
END:STANDARD
BEGIN:DAYLIGHT
TZOFFSETFROM:-0600
TZOFFSETTO:-0500
DTSTART:20260308T080000
TZNAME:CDT
END:DAYLIGHT
BEGIN:STANDARD
TZOFFSETFROM:-0500
TZOFFSETTO:-0600
DTSTART:20261101T070000
TZNAME:CST
END:STANDARD
BEGIN:DAYLIGHT
TZOFFSETFROM:-0600
TZOFFSETTO:-0500
DTSTART:20270314T080000
TZNAME:CDT
END:DAYLIGHT
BEGIN:STANDARD
TZOFFSETFROM:-0500
TZOFFSETTO:-0600
DTSTART:20271107T070000
TZNAME:CST
END:STANDARD
BEGIN:DAYLIGHT
TZOFFSETFROM:-0600
TZOFFSETTO:-0500
DTSTART:20280312T080000
TZNAME:CDT
END:DAYLIGHT
BEGIN:STANDARD
TZOFFSETFROM:-0500
TZOFFSETTO:-0600
DTSTART:20281105T070000
TZNAME:CST
END:STANDARD
BEGIN:DAYLIGHT
TZOFFSETFROM:-0600
TZOFFSETTO:-0500
DTSTART:20290311T080000
TZNAME:CDT
END:DAYLIGHT
BEGIN:STANDARD
TZOFFSETFROM:-0500
TZOFFSETTO:-0600
DTSTART:20291104T070000
TZNAME:CST
END:STANDARD
END:VTIMEZONE
END:VCALENDAR
