BEGIN:VCALENDAR
VERSION:2.0
PRODID:-//Center for Clinical Studies//NONSGML Events//EN
CALSCALE:GREGORIAN
X-ORIGINAL-URL:https://clinicalstudies.wustl.edu/events/
X-WR-CALDESC:Center for Clinical Studies - Events
BEGIN:VEVENT
UID:20221007T0013Z-1665101587.6023-EO-2959-1@172.23.128.18
STATUS:CONFIRMED
DTSTAMP:20260416T120407Z
CREATED:20221006T150527Z
LAST-MODIFIED:20221006T150609Z
DTSTART;TZID=America/Chicago:20221101T090000
DTEND;TZID=America/Chicago:20221101T120000
SUMMARY: OnCore Clinical Team Training
X-ALT-DESC;FMTTYPE=text/html: 
LOCATION:Virtual Session
GEO:0.000000;0.000000
ORGANIZER;CN="Kate":MAILTO:kateschoellhorn@wustl.edu
URL;VALUE=URI:https://clinicalstudies.wustl.edu/events/event/oncore-clinica
 l-team-training-25/
END:VEVENT
BEGIN:VTIMEZONE
TZID:America/Chicago
BEGIN:DAYLIGHT
TZOFFSETFROM:-0600
TZOFFSETTO:-0500
DTSTART:20220313T080000
TZNAME:CDT
END:DAYLIGHT
END:VTIMEZONE
END:VCALENDAR
