BEGIN:VCALENDAR
VERSION:2.0
PRODID:-//Center for Clinical Studies//NONSGML Events//EN
CALSCALE:GREGORIAN
X-ORIGINAL-URL:https://clinicalstudies.wustl.edu/events/
X-WR-CALDESC:Center for Clinical Studies - Events
BEGIN:VEVENT
UID:20220510T2123Z-1652217809.6841-EO-2843-1@172.23.128.19
STATUS:CONFIRMED
DTSTAMP:20260419T230552Z
CREATED:20220510T201425Z
LAST-MODIFIED:20220510T201425Z
DTSTART;TZID=America/Chicago:20220906T090000
DTEND;TZID=America/Chicago:20220906T120000
SUMMARY: OnCore Clinical Team Training
DESCRIPTION: WashU users: click here to register BJC users: contact the OnC
 ore Support Team to register Clinical Team Training is for users who need t
 o register participants on a studies and manage individual subjects through
 out their study life cycle in OnCore.
X-ALT-DESC;FMTTYPE=text/html: <p><strong>WashU users:</strong> <a href="htt
 ps://wustl.sabacloud.com/Saba/Web_spf/SPCTNT456Site/app/me/learningeventdet
 ail/cours000000000010681\;spf-url=common%2Fledetail%2Fcours000000000010681"
 >click here to register</a><br /><strong>BJC users:</strong> <a href="mailt
 o:%20oncore@wustl.edu">contact the OnCore Support Team to register</a></p><
 p>Clinical Team Training is for users who need to register participants on 
 a studies and manage individual subjects throughout their study life cycle 
 in OnCore.</p>
LOCATION:Virtual Session
GEO:0.000000;0.000000
ORGANIZER;CN="Kate":MAILTO:kateschoellhorn@wustl.edu
URL;VALUE=URI:https://clinicalstudies.wustl.edu/events/event/oncore-clinica
 l-team-training-21/
END:VEVENT
BEGIN:VTIMEZONE
TZID:America/Chicago
BEGIN:DAYLIGHT
TZOFFSETFROM:-0600
TZOFFSETTO:-0500
DTSTART:20220313T080000
TZNAME:CDT
END:DAYLIGHT
END:VTIMEZONE
END:VCALENDAR
