BEGIN:VCALENDAR
VERSION:2.0
PRODID:-//Center for Clinical Studies//NONSGML Events//EN
CALSCALE:GREGORIAN
X-ORIGINAL-URL:https://clinicalstudies.wustl.edu/events/
X-WR-CALDESC:Center for Clinical Studies - Events
BEGIN:VEVENT
UID:20201124T2225Z-1606256733.1576-EO-2444-1@172.23.128.18
STATUS:CONFIRMED
DTSTAMP:20260416T120409Z
CREATED:20201124T192948Z
LAST-MODIFIED:20220509T194559Z
DTSTART;TZID=America/Chicago:20210112T090000
DTEND;TZID=America/Chicago:20210112T120000
RDATE;TZID=America/Chicago:20210127T090000,20210211T090000,20210224T090000,20210309T090000,20210324T090000,20210408T090000,20210421T090000,20210511T090000,20210526T090000,20210608T090000,20210623T090000,20210708T090000,20210721T090000,20210810T090000,20210825T090000,20210909T090000,20210921T090000,20211012T090000,20211026T090000,20211110T090000,20211123T090000,20211221T090000,20211208T090000,20220105T090000,20220118T090000,20220222T090000,20220309T090000,20220322T090000,20220406T090000,20220419T090000,20220504T090000,20220517T090000,20220201T090000,20220601T090000,20220614T090000
SUMMARY: OnCore Clinical Team Training
DESCRIPTION: WashU users: click here to register BJC users: contact the OnC
 ore Support Team to register Clinical Team Training is for users who need t
 o register participants on a studies and manage individual subjects through
 out their study life cycle in OnCore.
X-ALT-DESC;FMTTYPE=text/html: <p><strong>WashU users:</strong> <a href="htt
 ps://wustl.sabacloud.com/Saba/Web_spf/SPCTNT456Site/app/me/learningeventdet
 ail/cours000000000010681\;spf-url=common%2Fledetail%2Fcours000000000010681"
  target="_blank" rel="noopener noreferrer">click here to register</a><br />
 <strong>BJC users:</strong> <a href="mailto: oncore@wustl.edu" rel="noopene
 r noreferrer">contact the OnCore Support Team to register</a></p><p>Clinica
 l Team Training is for users who need to register participants on a studies
  and manage individual subjects throughout their study life cycle in OnCore
 .</p>
CATEGORIES:Clinical,Data Management,Training
LOCATION:Virtual Session
GEO:0.000000;0.000000
ORGANIZER;CN="Sonya":MAILTO:izadis@wustl.edu
URL;VALUE=URI:https://clinicalstudies.wustl.edu/events/event/oncore-clinica
 l-team-training-16/
END:VEVENT
BEGIN:VTIMEZONE
TZID:America/Chicago
BEGIN:STANDARD
TZOFFSETFROM:-0500
TZOFFSETTO:-0600
DTSTART:20201101T070000
TZNAME:CST
END:STANDARD
BEGIN:DAYLIGHT
TZOFFSETFROM:-0600
TZOFFSETTO:-0500
DTSTART:20210314T080000
TZNAME:CDT
END:DAYLIGHT
BEGIN:STANDARD
TZOFFSETFROM:-0500
TZOFFSETTO:-0600
DTSTART:20211107T070000
TZNAME:CST
END:STANDARD
BEGIN:DAYLIGHT
TZOFFSETFROM:-0600
TZOFFSETTO:-0500
DTSTART:20220313T080000
TZNAME:CDT
END:DAYLIGHT
END:VTIMEZONE
END:VCALENDAR
