BEGIN:VCALENDAR
VERSION:2.0
PRODID:-//Center for Clinical Studies//NONSGML Events//EN
CALSCALE:GREGORIAN
X-ORIGINAL-URL:https://clinicalstudies.wustl.edu/events/
X-WR-CALDESC:Center for Clinical Studies - Events
BEGIN:VEVENT
UID:20200512T1946Z-1589312774.3584-EO-1829-1@172.23.128.18
STATUS:CONFIRMED
DTSTAMP:20260414T154946Z
CREATED:20200512T192305Z
LAST-MODIFIED:20200706T183259Z
DTSTART;TZID=America/Chicago:20200722T090000
DTEND;TZID=America/Chicago:20200722T120000
SUMMARY: OnCore Clinical Team Training
DESCRIPTION: WashU users: click here to register BJC users: contact the OnC
 ore Support Team to register Clinical Team Training is for users who need t
 o register participants on a studies and manage individual subjects through
 out their study life cycle in OnCore.
X-ALT-DESC;FMTTYPE=text/html: <p><strong>WashU users:</strong> <a href="htt
 ps://wustl.sabacloud.com/Saba/Web_spf/SPCTNT456Site/app/me/learningeventdet
 ail/cours000000000010681\;spf-url=common%2Fledetail%2Fcours000000000010681"
  target="_blank" rel="noopener noreferrer">click here to register</a><br />
 <strong>BJC users:</strong> <a href="mailto: oncore@wustl.edu" rel="noopene
 r noreferrer">contact the OnCore Support Team to register</a></p><p>Clinica
 l Team Training is for users who need to register participants on a studies
  and manage individual subjects throughout their study life cycle in OnCore
 .</p>
CATEGORIES:Clinical,Data Management,Training
LOCATION:Virtual Session
GEO:0.000000;0.000000
ORGANIZER;CN="Sonya":MAILTO:izadis@wustl.edu
URL;VALUE=URI:https://clinicalstudies.wustl.edu/events/event/oncore-clinica
 l-team-training-13/
END:VEVENT
BEGIN:VTIMEZONE
TZID:America/Chicago
BEGIN:DAYLIGHT
TZOFFSETFROM:-0600
TZOFFSETTO:-0500
DTSTART:20200308T080000
TZNAME:CDT
END:DAYLIGHT
END:VTIMEZONE
END:VCALENDAR
