BEGIN:VCALENDAR
VERSION:2.0
PRODID:-//Center for Clinical Studies//NONSGML Events//EN
CALSCALE:GREGORIAN
X-ORIGINAL-URL:https://clinicalstudies.wustl.edu/events/
X-WR-CALDESC:Center for Clinical Studies - Events
BEGIN:VEVENT
UID:20190709T0021Z-1562631681.87-EO-1412-1@172.23.128.19
STATUS:CONFIRMED
DTSTAMP:20260416T120417Z
CREATED:20190708T154412Z
LAST-MODIFIED:20190708T154412Z
DTSTART;TZID=America/Chicago:20190926T140000
DTEND;TZID=America/Chicago:20190926T160000
SUMMARY: Forte Webinar: “Subjects- Basics”
DESCRIPTION: Contact the OnCore Support Team to register. Forte\, OnCore’s 
 vendor company\, provides webinars throughout the year on a variety of end 
 user topics. The OnCore Support Team invites you to join us to listen to th
 e webinar as a group. A brief discussion and Q&A will follow the webinar. I
 n this recorded webinar\, the Forte […]
X-ALT-DESC;FMTTYPE=text/html: <p><a href="mailto:%20oncore@wustl.edu" rel="
 noopener noreferrer">Contact the OnCore Support Team to register.</a></p><p
 >Forte\, OnCore’s vendor company\, provides webinars throughout the year on
  a variety of end user topics. The OnCore Support Team invites you to join 
 us to listen to the webinar as a group. A brief discussion and Q&A will fol
 low the webinar.</p><p>In this recorded webinar\, the Forte Training Team g
 ives you an introduction to working with subjects in OnCore\, including reg
 istration\, consent\, and deviations.</p><ul><li>Register a subject to a pr
 otocol</li><li>Record consent and eligibility details</li><li>Change the su
 bject status by entering key dates</li><li>Record SAEs and subject deviatio
 ns</li></ul>
CATEGORIES:Clinical,Data Management,Seminar/Webinar
LOCATION:Mid Campus Center\, Rm. 2057
GEO:38.636075;-90.260387
ORGANIZER;CN="Sonya":MAILTO:izadis@wustl.edu
URL;VALUE=URI:https://clinicalstudies.wustl.edu/events/event/forte-webinar-
 subjects-basics/
END:VEVENT
BEGIN:VTIMEZONE
TZID:America/Chicago
BEGIN:DAYLIGHT
TZOFFSETFROM:-0600
TZOFFSETTO:-0500
DTSTART:20190310T080000
TZNAME:CDT
END:DAYLIGHT
END:VTIMEZONE
END:VCALENDAR
