BEGIN:VCALENDAR
VERSION:2.0
PRODID:-//Center for Clinical Studies//NONSGML Events//EN
CALSCALE:GREGORIAN
X-ORIGINAL-URL:https://clinicalstudies.wustl.edu/events/
X-WR-CALDESC:Center for Clinical Studies - Events
BEGIN:VEVENT
UID:20190709T0021Z-1562631681.874-EO-1415-1@172.23.128.19
STATUS:CONFIRMED
DTSTAMP:20260421T101243Z
CREATED:20190708T154757Z
LAST-MODIFIED:20190708T155337Z
DTSTART;TZID=America/Chicago:20191017T140000
DTEND;TZID=America/Chicago:20191017T160000
SUMMARY: Forte Webinar: “Searching and Reporting”
DESCRIPTION: Contact the OnCore Support Team to register. Forte\, OnCore’s 
 vendor company\, provides webinars throughout the year on a variety of end 
 user topics. The OnCore Support Team invites you to join us to listen to th
 e webinar as a group. A brief discussion and Q&A will follow the webinar. W
 ith the large amount of information […]
X-ALT-DESC;FMTTYPE=text/html: <p><a href="mailto:%20oncore@wustl.edu" rel="
 noopener noreferrer">Contact the OnCore Support Team to register.</a></p><p
 >Forte\, OnCore’s vendor company\, provides webinars throughout the year on
  a variety of end user topics. The OnCore Support Team invites you to join 
 us to listen to the webinar as a group. A brief discussion and Q&A will fol
 low the webinar.</p><p>With the large amount of information in OnCore\, it 
 is important to be able to retrieve data when you need it.  In this recorde
 d webinar\, learn about searching and reporting tools you can use to find w
 hat you need in OnCore.</p><p>Search Tools</p><ul><li>Protocol Search</li><
 li>Subject Search</li><li>Saved Searches</li><li>Share Searches</li><li>Las
 t search results</li></ul><p>Reports</p><ul><li>IRB Lapse Report</li><li>Pl
 anned Visits Report</li><li>...and many more!</li></ul><p> </p>
CATEGORIES:Clinical,Data Management,Regulatory,Seminar/Webinar
LOCATION:Mid Campus Center\, Rm. 2057
GEO:38.636075;-90.260387
ORGANIZER;CN="Sonya":MAILTO:izadis@wustl.edu
URL;VALUE=URI:https://clinicalstudies.wustl.edu/events/event/forte-webinar-
 searching-and-reporting/
END:VEVENT
BEGIN:VTIMEZONE
TZID:America/Chicago
BEGIN:DAYLIGHT
TZOFFSETFROM:-0600
TZOFFSETTO:-0500
DTSTART:20190310T080000
TZNAME:CDT
END:DAYLIGHT
END:VTIMEZONE
END:VCALENDAR
