BEGIN:VCALENDAR
VERSION:2.0
PRODID:-//Center for Clinical Studies//NONSGML Events//EN
CALSCALE:GREGORIAN
X-ORIGINAL-URL:https://clinicalstudies.wustl.edu/events/
X-WR-CALDESC:Center for Clinical Studies - Events
BEGIN:VEVENT
UID:20191011T2250Z-1570834213.4098-EO-1528-1@172.23.128.18
STATUS:CONFIRMED
DTSTAMP:20260421T101242Z
CREATED:20191011T212110Z
LAST-MODIFIED:20191011T212110Z
DTSTART;TZID=America/Chicago:20191121T140000
DTEND;TZID=America/Chicago:20191121T160000
SUMMARY: Forte Webinar: “Payments: 101 – Introduction and Navigation”
DESCRIPTION: Contact the OnCore Support Team to register. Forte\, OnCore’s 
 vendor company\, provides webinars throughout the year on a variety of end 
 user topics. The OnCore Support Team invites you to join us to listen to th
 e webinar as a group. A brief discussion and Q&A will follow the webinar. T
 his module introduces you to Forte […]
X-ALT-DESC;FMTTYPE=text/html: <p><a href="mailto: oncore@wustl.edu" rel="no
 opener noreferrer">Contact the OnCore Support Team to register.</a></p><p>F
 orte\, OnCore's vendor company\, provides webinars throughout the year on a
  variety of end user topics. The OnCore Support Team invites you to join us
  to listen to the webinar as a group. A brief discussion and Q&A will follo
 w the webinar.</p><p>This module introduces you to Forte Payments\, includi
 ng how to navigate within the system.</p><ul><li>Log in and set password</l
 i><li>Navigate within Forte Payments</li><li>Add buttons to favorites bar</
 li></ul>
CATEGORIES:Seminar/Webinar
LOCATION:Mid Campus Center\, Room 1404
GEO:38.636075;-90.260387
ORGANIZER;CN="Sonya":MAILTO:izadis@wustl.edu
URL;VALUE=URI:https://clinicalstudies.wustl.edu/events/event/forte-webinar-
 payments-101-introduction-and-navigation/
END:VEVENT
BEGIN:VTIMEZONE
TZID:America/Chicago
BEGIN:STANDARD
TZOFFSETFROM:-0500
TZOFFSETTO:-0600
DTSTART:20191103T070000
TZNAME:CST
END:STANDARD
END:VTIMEZONE
END:VCALENDAR
