BEGIN:VCALENDAR
VERSION:2.0
PRODID:-//Center for Clinical Studies//NONSGML Events//EN
CALSCALE:GREGORIAN
X-ORIGINAL-URL:https://clinicalstudies.wustl.edu/events/
X-WR-CALDESC:Center for Clinical Studies - Events
BEGIN:VEVENT
UID:20190425T2344Z-1556235892.0432-EO-1284-1@172.23.128.18
STATUS:CONFIRMED
DTSTAMP:20260422T161706Z
CREATED:20190425T205209Z
LAST-MODIFIED:20190603T182749Z
DTSTART;TZID=America/Chicago:20190606T140000
DTEND;TZID=America/Chicago:20190606T153000
SUMMARY: Forte Webinar “Financials: Basics”
DESCRIPTION: Contact the OnCore Support Team to register. Forte\, OnCore’s 
 vendor company\, provides webinars throughout the year on a variety of end 
 user topics. The OnCore Support Team invites you to join us to listen to th
 e webinar as a group. A brief discussion and Q&A will follow the webinar.  
  Would you like to learn […]
X-ALT-DESC;FMTTYPE=text/html: <p><a href="mailto: oncore@wustl.edu" rel="no
 opener noreferrer">Contact the OnCore Support Team to register.</a></p><p>F
 orte\, OnCore's vendor company\, provides webinars throughout the year on a
  variety of end user topics. The OnCore Support Team invites you to join us
  to listen to the webinar as a group. A brief discussion and Q&A will follo
 w the webinar.</p><p> </p><p>Would you like to learn more about working wit
 h financials in OnCore? In this webinar\, get an introduction to the basics
  of working with financials.</p><p>This webinar will review:</p><ul><li>Ove
 rview of the Research Charge Master</li><li>Document Coverage Analysis</li>
 <li>Set Budget-Related and Invoice-Related Parameters</li><li>Include Proto
 col-Related and Subject-Related Costs in the Budget</li><li>Configure Billa
 ble Milestones</li><li>Create an Invoice</li><li>Track Receipts</li></ul>
CATEGORIES:Financial,Seminar/Webinar
LOCATION:Farrell Learning and Teaching Center\, Room 204
GEO:38.634279;-90.263316
ORGANIZER;CN="Sonya":MAILTO:izadis@wustl.edu
URL;VALUE=URI:https://clinicalstudies.wustl.edu/events/event/forte-webinar-
 financial-basics/
END:VEVENT
BEGIN:VTIMEZONE
TZID:America/Chicago
BEGIN:DAYLIGHT
TZOFFSETFROM:-0600
TZOFFSETTO:-0500
DTSTART:20190310T080000
TZNAME:CDT
END:DAYLIGHT
END:VTIMEZONE
END:VCALENDAR
