BEGIN:VCALENDAR
VERSION:2.0
PRODID:-//Center for Clinical Studies//NONSGML Events//EN
CALSCALE:GREGORIAN
X-ORIGINAL-URL:https://clinicalstudies.wustl.edu/events/
X-WR-CALDESC:Center for Clinical Studies - Events
BEGIN:VEVENT
UID:20191003T1906Z-1570129570.5579-EO-1519-1@172.23.128.18
STATUS:CONFIRMED
DTSTAMP:20260414T144013Z
CREATED:20191003T173401Z
LAST-MODIFIED:20191105T210338Z
DTSTART;TZID=America/Chicago:20191113T090000
DTEND;TZID=America/Chicago:20191113T120000
SUMMARY: Clinical Team Training
DESCRIPTION: WashU users: click here to register BJC users: contact the OnC
 ore Support Team to register Clinical Team Training is for users who need t
 o register participants on a studies and manage individual subjects through
 out their study life cycle in OnCore.
X-ALT-DESC;FMTTYPE=text/html: <p><strong>WashU users:</strong> <a href="htt
 ps://wustl.sabacloud.com/Saba/Web_spf/SPCTNT456Site/app/me/learningeventdet
 ail/cours000000000010681\;spf-url=common%2Fledetail%2Fcours000000000010681"
  target="_blank" rel="noopener noreferrer">click here to register</a><br />
 <strong>BJC users:</strong> <a href="mailto: oncore@wustl.edu" rel="noopene
 r noreferrer">contact the OnCore Support Team to register</a></p><p>Clinica
 l Team Training is for users who need to register participants on a studies
  and manage individual subjects throughout their study life cycle in OnCore
 .</p>
CATEGORIES:Clinical,Data Management,Training
LOCATION:Farrell Learning and Teaching Center\, Room 602
GEO:38.634279;-90.263316
ORGANIZER;CN="Sonya":MAILTO:izadis@wustl.edu
URL;VALUE=URI:https://clinicalstudies.wustl.edu/events/event/cra-calendar-t
 raining/
END:VEVENT
BEGIN:VTIMEZONE
TZID:America/Chicago
BEGIN:STANDARD
TZOFFSETFROM:-0500
TZOFFSETTO:-0600
DTSTART:20191103T070000
TZNAME:CST
END:STANDARD
END:VTIMEZONE
END:VCALENDAR
